BEGIN:VCALENDAR
VERSION:2.0
PRODID:-//Paroti - Nonprofit Charity WordPress Theme - ECPv6.15.18//NONSGML v1.0//EN
CALSCALE:GREGORIAN
METHOD:PUBLISH
X-ORIGINAL-URL:http://www.policyactioninitiative.org
X-WR-CALDESC:Events for Paroti - Nonprofit Charity WordPress Theme
REFRESH-INTERVAL;VALUE=DURATION:PT1H
X-Robots-Tag:noindex
X-PUBLISHED-TTL:PT1H
BEGIN:VTIMEZONE
TZID:UTC
BEGIN:STANDARD
TZOFFSETFROM:+0000
TZOFFSETTO:+0000
TZNAME:UTC
DTSTART:20230101T000000
END:STANDARD
END:VTIMEZONE
BEGIN:VEVENT
DTSTART;TZID=UTC:20241119T080000
DTEND;TZID=UTC:20241119T170000
DTSTAMP:20260419T130956
CREATED:20241119T153412Z
LAST-MODIFIED:20241119T153412Z
UID:2373-1732003200-1732035600@www.policyactioninitiative.org
SUMMARY:Food Security and Sustainability in Africa Debate at COP29
DESCRIPTION:Join us tomorrow\, as we co-host an interactive Debate on Food Security and Sustainability in Africa\, in collaboration with YouLead Africa\, on the sidelines of COP29 in Baku\, Azerbaijan. \nThe Debate shall be moderated by Ms. Eunice Oyule – Climate Action Lead at YouLead Network\, and feature distinguished speakers including Ms. Charlene Ruto – Founder & Patron at SMACHS Foundation\, Mr. Hamza Abdiwahab – Director at Somalia Youth Hub\, Mr. Nyongesa M. Khaduyu – Environment and Climate Justice Officer at ForumCiv\, Ms. Ongaya Mulobi – Programs Lead at SMACHS Foundation\, and Mr. Wani Stephen – Executive Director at Africa Democracy and Resilience Network- ADRNET South Sudan.
URL:http://www.policyactioninitiative.org/event/food-security-and-sustainability-in-africa-debate-at-cop29/
CATEGORIES:Debates & Dialogue,Round-Table
ATTACH;FMTTYPE=image/png:http://www.policyactioninitiative.org/wp-content/uploads/2024/11/kmc_20241119_151014.png
END:VEVENT
BEGIN:VEVENT
DTSTART;VALUE=DATE:20241105
DTEND;VALUE=DATE:20241107
DTSTAMP:20260419T130956
CREATED:20241012T183404Z
LAST-MODIFIED:20241012T183404Z
UID:2368-1730764800-1730937599@www.policyactioninitiative.org
SUMMARY:Kenya Blue Economy Debate
DESCRIPTION:In conjunction with Ocean Climate Innovation Hub – Kenya\, we shall be hosting the Kenya Blue Economy Debate on November 5th-6th\, 2024\, at the Technical University of Mombasa. \nThe Debate shall touch on the following themes:\n– Marine renewable energy\n– Maritime\, shipping\, and transport\n– Aquaculture and food security\n– Coastal and marine tourism\n– Ocean pollution and plastic waste management\n– Marine mining\n– Climate change resilience and adaptation \nWe welcome debaters\, innovators\, researchers\, and policy makers to join us for an amazing two-day discussions.
URL:http://www.policyactioninitiative.org/event/kenya-blue-economy-debate/
LOCATION:Technical University of Mombasa\, Mombasa\, Kenya
CATEGORIES:Debates & Dialogue
ATTACH;FMTTYPE=image/jpeg:http://www.policyactioninitiative.org/wp-content/uploads/2024/10/GZcw1ZwWAAATBeA.jpg
ORGANIZER;CN="Policy Action Initiative":MAILTO:info@policyactioninitiative.org
END:VEVENT
BEGIN:VEVENT
DTSTART;TZID=UTC:20240602T080000
DTEND;TZID=UTC:20240606T170000
DTSTAMP:20260419T130956
CREATED:20240611T134948Z
LAST-MODIFIED:20240611T135101Z
UID:2286-1717315200-1717693200@www.policyactioninitiative.org
SUMMARY:Tanzanian National Debate Championships
DESCRIPTION:This week\, our Head of Research\, Elijah Bakari is in Arusha\, Tanzania\, moderating the Tanzanian National Debate Championships. \nThe Debate has attracted over 200 participants from high schools across the country and is structured to provide platforms for teenagers to express their ideas on key issues affecting their futures such as climate change\,  poor governance\, social media and internet. \n  \n \n 
URL:http://www.policyactioninitiative.org/event/tanzanian-national-debate-championships/
CATEGORIES:Debates & Dialogue
ATTACH;FMTTYPE=image/jpeg:http://www.policyactioninitiative.org/wp-content/uploads/2024/06/GPI_srFWkAEwYVU.jpg
END:VEVENT
BEGIN:VEVENT
DTSTART;TZID=UTC:20240315T080000
DTEND;TZID=UTC:20240316T170000
DTSTAMP:20260419T130956
CREATED:20240314T225017Z
LAST-MODIFIED:20240423T230516Z
UID:2255-1710489600-1710608400@www.policyactioninitiative.org
SUMMARY:Kenya Inter-Universities Policy Debate on Food Security and Nutrition
DESCRIPTION:Food insecurity remains one of the most significant challenges facing Kenya today. In 2023\, over 5.3 million Kenyans grappled with acute food insecurity\, while a staggering 1 million children endured the devastating effects of malnutrition. \nWhile the rights to food and child nutrition is enshrined in the national constitution\, the journey toward achieving SDG 2 on Zero Hunger remains fraught with many obstacles. Additionally\, many experts predict the situation to worsen further\, driven by intensification of climate-related disasters. The frequent floods and droughts continue to wreak havoc on Kenya’s agriculture\, which over 95% is rain-fed. Other contributing challenges include the widening economic inequality\, rapid population growth exceeding 2.9% annually according to the Kenya National Bureau of Statistics\, and escalating poverty\, which now affects over a third of the population. \nHowever\, there lies a beacon of a hope. If empowered and supported\, young people have consistently shown their ability to provide solutions to the world’s challenges. \nIt is in this spirit that the Policy Action Initiative intends to hold the InterUniversity Debate on Food Security and Nutrition\, scheduled for March 15th-16th\, 2024\, at Kenyatta University. This unique event aims to bring together 300 students from 20 universities and colleges to discuss\, promote\, and showcase sustainable agricultural practices and environmental policies that pave the way for long-term food security.
URL:http://www.policyactioninitiative.org/event/2255/
CATEGORIES:Debates & Dialogue
ATTACH;FMTTYPE=image/jpeg:http://www.policyactioninitiative.org/wp-content/uploads/2024/03/GId9vTFWsAA4oNY.jpg
ORGANIZER;CN="Policy Action Initiative":MAILTO:info@policyactioninitiative.org
END:VEVENT
END:VCALENDAR